BEGIN:VCALENDAR
VERSION:2.0
PRODID:-//NCMA - ECPv6.15.11//NONSGML v1.0//EN
CALSCALE:GREGORIAN
METHOD:PUBLISH
X-WR-CALNAME:NCMA
X-ORIGINAL-URL:https://ncma-rhodeisland.org
X-WR-CALDESC:Events for NCMA
REFRESH-INTERVAL;VALUE=DURATION:PT1H
X-Robots-Tag:noindex
X-PUBLISHED-TTL:PT1H
BEGIN:VTIMEZONE
TZID:America/New_York
BEGIN:DAYLIGHT
TZOFFSETFROM:-0500
TZOFFSETTO:-0400
TZNAME:EDT
DTSTART:20250309T070000
END:DAYLIGHT
BEGIN:STANDARD
TZOFFSETFROM:-0400
TZOFFSETTO:-0500
TZNAME:EST
DTSTART:20251102T060000
END:STANDARD
BEGIN:DAYLIGHT
TZOFFSETFROM:-0500
TZOFFSETTO:-0400
TZNAME:EDT
DTSTART:20260308T070000
END:DAYLIGHT
BEGIN:STANDARD
TZOFFSETFROM:-0400
TZOFFSETTO:-0500
TZNAME:EST
DTSTART:20261101T060000
END:STANDARD
BEGIN:DAYLIGHT
TZOFFSETFROM:-0500
TZOFFSETTO:-0400
TZNAME:EDT
DTSTART:20270314T070000
END:DAYLIGHT
BEGIN:STANDARD
TZOFFSETFROM:-0400
TZOFFSETTO:-0500
TZNAME:EST
DTSTART:20271107T060000
END:STANDARD
END:VTIMEZONE
BEGIN:VEVENT
DTSTART;TZID=America/New_York:20260127T083000
DTEND;TZID=America/New_York:20260127T160000
DTSTAMP:20260423T164455
CREATED:20250805T164309Z
LAST-MODIFIED:20260206T202257Z
UID:26942-1769502600-1769529600@ncma-rhodeisland.org
SUMMARY:Ocean State Workshop 2026
DESCRIPTION:  \n \nThe Ocean State Workshop is NCMA Rhode Island’s bi-annual professional development event\, and this year’s theme is Wartime Readiness Planning (WARP). WARP discussions will center on readiness within the Contracts Department at the Naval Undersea Warfare Center – Div. Newport\, and will help align and prepare the contracting community with the possibilities of a highly fluid and uncertain environment. \nDate: Tuesday January 27\, 2026 | Location: Newport Officer’s Club \nAgenda: OSW Agenda 2026_20260123 \nPresentations: \n\nSteve O’Grady – Mastery of the Seas Strategy\nCAPT Kevin Behm & CAPT Chad Hennings – WARP Preparations (Part 1) (Part 2)\nAndrew Nagelhout – WARP Acquisition Strategy\, Message to Industry\, and Group Exercise\nMaria Gregory – Office of Small Business Programs Remarks\nOSW Terminology Reference Guide\nWorking Group Exercise Documents
URL:https://ncma-rhodeisland.org/event/ocean-state-workshop-2026/
LOCATION:Naval Station Newport – Officer’s Club\, 95 Perry Road\, Newport\, RI\, 02841\, United States
ORGANIZER;CN="NCMA Rhode Island Chapter":MAILTO:ncmarichapter@gmail.com
END:VEVENT
END:VCALENDAR